{
 "currentVersion": 11.5,
 "cimVersion": "3.5.0",
 "serviceDescription": "",
 "mapName": "2006_Aerials",
 "description": "",
 "copyrightText": "",
 "supportsDynamicLayers": true,
 "layers": [
  {
   "id": 0,
   "name": "2006_Aerials",
   "parentLayerId": -1,
   "defaultVisibility": true,
   "subLayerIds": [
    1,
    2,
    3,
    4,
    5,
    6,
    7,
    8,
    9
   ],
   "minScale": 0,
   "maxScale": 0,
   "type": "Group Layer",
   "supportsDynamicLegends": false
  }
 ],
 "tables": [],
 "spatialReference": {
  "wkid": 103046,
  "latestWkid": 6465,
  "xyTolerance": 0.003280833333333333,
  "zTolerance": 0.001,
  "mTolerance": 0.001,
  "falseX": -119240500,
  "falseY": -96507600,
  "xyUnits": 3.725648770439424E7,
  "falseZ": -100000,
  "zUnits": 10000,
  "falseM": -100000,
  "mUnits": 10000
 },
 "singleFusedMapCache": true,
 "tileInfo": {
  "rows": 256,
  "cols": 256,
  "dpi": 96,
  "format": "MIXED",
  "compressionQuality": 75,
  "origin": {
   "x": -119240500,
   "y": 1.4525429999999997E8
  },
  "spatialReference": {
   "wkid": 103046,
   "latestWkid": 6465,
   "xyTolerance": 0.003280833333333333,
   "zTolerance": 0.001,
   "mTolerance": 0.001,
   "falseX": -119240500,
   "falseY": -96507600,
   "xyUnits": 3048.0060960121928,
   "falseZ": -100000,
   "zUnits": 10000,
   "falseM": -100000,
   "mUnits": 10000
  },
  "lods": [
   {
    "level": 0,
    "resolution": 390.625,
    "scale": 450000
   },
   {
    "level": 1,
    "resolution": 195.3125,
    "scale": 225000
   },
   {
    "level": 2,
    "resolution": 97.65625,
    "scale": 112500
   },
   {
    "level": 3,
    "resolution": 48.828125,
    "scale": 56250
   },
   {
    "level": 4,
    "resolution": 24.4140625,
    "scale": 28125
   },
   {
    "level": 5,
    "resolution": 12.206597222222221,
    "scale": 14062
   },
   {
    "level": 6,
    "resolution": 6.104166666666666,
    "scale": 7032
   },
   {
    "level": 7,
    "resolution": 3.052083333333333,
    "scale": 3516
   },
   {
    "level": 8,
    "resolution": 1.5260416666666665,
    "scale": 1758
   },
   {
    "level": 9,
    "resolution": 0.7638888888888888,
    "scale": 880
   },
   {
    "level": 10,
    "resolution": 0.3819444444444444,
    "scale": 440
   },
   {
    "level": 11,
    "resolution": 0.1909722222222222,
    "scale": 220
   }
  ]
 },
 "storageInfo": {
  "storageFormat": "esriMapCacheStorageModeCompactV2",
  "packetSize": 128
 },
 "initialExtent": {
  "xmin": 2065830.7916084733,
  "ymin": 529430.7340291506,
  "xmax": 2254919.5693091005,
  "ymax": 680572.0211792232,
  "spatialReference": {
   "wkid": 103046,
   "latestWkid": 6465,
   "xyTolerance": 0.003280833333333333,
   "zTolerance": 0.001,
   "mTolerance": 0.001,
   "falseX": -119240500,
   "falseY": -96507600,
   "xyUnits": 3.725648770439424E7,
   "falseZ": -100000,
   "zUnits": 10000,
   "falseM": -100000,
   "mUnits": 10000
  }
 },
 "fullExtent": {
  "xmin": 2091891.757086398,
  "ymin": 522312.9995933277,
  "xmax": 2228858.6038311757,
  "ymax": 687689.755615046,
  "spatialReference": {
   "wkid": 103046,
   "latestWkid": 6465,
   "xyTolerance": 0.003280833333333333,
   "zTolerance": 0.001,
   "mTolerance": 0.001,
   "falseX": -119240500,
   "falseY": -96507600,
   "xyUnits": 3.725648770439424E7,
   "falseZ": -100000,
   "zUnits": 10000,
   "falseM": -100000,
   "mUnits": 10000
  }
 },
 "datesInUnknownTimezone": false,
 "minScale": 450000,
 "maxScale": 220,
 "minLOD": 0,
 "maxLOD": 11,
 "units": "esriFeet",
 "supportedImageFormatTypes": "PNG32,PNG24,PNG,JPG,DIB,TIFF,EMF,PS,PDF,GIF,SVG,SVGZ,BMP",
 "documentInfo": {
  "Title": "Orthos2008",
  "Author": "",
  "Comments": "",
  "Subject": "",
  "Category": "",
  "Version": "2.9.0",
  "AntialiasingMode": "Fast",
  "TextAntialiasingMode": "Force",
  "Keywords": "aerials,basemap,Johnson County"
 },
 "supportsQueryDomains": true,
 "capabilities": "Map,Query,Data",
 "supportedQueryFormats": "JSON, geoJSON, PBF",
 "exportTilesAllowed": false,
 "referenceScale": 0.0,
 "datumTransformations": [
  {
   "geoTransforms": [
    {
     "wkid": 108001,
     "latestWkid": 1241,
     "transformForward": true,
     "name": "NAD_1927_To_NAD_1983_NADCON"
    }
   ]
  },
  {
   "geoTransforms": [
    {
     "wkid": 108001,
     "latestWkid": 1241,
     "transformForward": false,
     "name": "NAD_1927_To_NAD_1983_NADCON"
    }
   ]
  }
 ],
 "supportsDatumTransformation": true,
 "archivingInfo": {
  "supportsHistoricMoment": false
 },
 "supportsClipping": true,
 "supportsSpatialFilter": true,
 "supportsTimeRelation": true,
 "supportsQueryDataElements": true,
 "mapUnits": {
  "uwkid": 9003
 },
 "maxSelectionCount": 2000,
 "maxRecordCount": 2000,
 "maxImageHeight": 4096,
 "maxImageWidth": 4096,
 "supportedExtensions": ""
}
