<?xml version="1.0" encoding="UTF-8"?>
<Capabilities xmlns="http://www.opengis.net/wmts/1.0"
xmlns:ows="http://www.opengis.net/ows/1.1"
xmlns:xlink="http://www.w3.org/1999/xlink"
xmlns:xsi="http://www.w3.org/2001/XMLSchema-instance"
xmlns:gml="http://www.opengis.net/gml"
xsi:schemaLocation="http://www.opengis.net/wmts/1.0 http://schemas.opengis.net/wmts/1.0/wmtsGetCapabilities_response.xsd"
version="1.0.0">
<!-- Service Identification --> <ows:ServiceIdentification>
<ows:Title>Basemaps_2026_Aerials_Partial</ows:Title>
<ows:ServiceType>OGC WMTS</ows:ServiceType>
<ows:ServiceTypeVersion>1.0.0</ows:ServiceTypeVersion>
</ows:ServiceIdentification> <!-- Operations Metadata --> <ows:OperationsMetadata>
<ows:Operation name="GetCapabilities">
<ows:DCP>
<ows:HTTP>
<ows:Get xlink:href="https://gis.johnsoncountyiowa.gov/arcgis/rest/services/Basemaps/2026_Aerials_Partial/MapServer/WMTS/1.0.0/WMTSCapabilities.xml">
<ows:Constraint name="GetEncoding">
<ows:AllowedValues>
<ows:Value>RESTful</ows:Value>
</ows:AllowedValues>
</ows:Constraint>
</ows:Get>
<!-- add KVP binding in 10.1 -->
<ows:Get xlink:href="https://gis.johnsoncountyiowa.gov/arcgis/rest/services/Basemaps/2026_Aerials_Partial/MapServer/WMTS?">
<ows:Constraint name="GetEncoding">
<ows:AllowedValues>
<ows:Value>KVP</ows:Value>
</ows:AllowedValues>
</ows:Constraint>
</ows:Get>
</ows:HTTP>
</ows:DCP>
</ows:Operation>
<ows:Operation name="GetTile">
<ows:DCP>
<ows:HTTP>
<ows:Get xlink:href="https://gis.johnsoncountyiowa.gov/arcgis/rest/services/Basemaps/2026_Aerials_Partial/MapServer/WMTS/tile/1.0.0/">
<ows:Constraint name="GetEncoding">
<ows:AllowedValues>
<ows:Value>RESTful</ows:Value>
</ows:AllowedValues>
</ows:Constraint>
</ows:Get>
<ows:Get xlink:href="https://gis.johnsoncountyiowa.gov/arcgis/rest/services/Basemaps/2026_Aerials_Partial/MapServer/WMTS?">
<ows:Constraint name="GetEncoding">
<ows:AllowedValues>
<ows:Value>KVP</ows:Value>
</ows:AllowedValues>
</ows:Constraint>
</ows:Get>
</ows:HTTP>
</ows:DCP>
</ows:Operation>
</ows:OperationsMetadata> <Contents>
<!--Layer--> <Layer>
<ows:Title>Basemaps_2026_Aerials_Partial</ows:Title> <ows:Identifier>Basemaps_2026_Aerials_Partial</ows:Identifier>
<ows:BoundingBox crs="urn:ogc:def:crs:EPSG::6465">
<ows:LowerCorner>2106077.493368718 573533.9828394382</ows:LowerCorner>
<ows:UpperCorner>2214385.993399379 683939.482870197</ows:UpperCorner>
</ows:BoundingBox> <ows:WGS84BoundingBox crs="urn:ogc:def:crs:OGC:2:84">
<ows:LowerCorner>-91.79833899443179 41.55518998115147</ows:LowerCorner>
<ows:UpperCorner>-91.39291618530312 41.8646088301195</ows:UpperCorner>
</ows:WGS84BoundingBox>
<Style isDefault="true">
<ows:Title>Default Style</ows:Title>
<ows:Identifier>default</ows:Identifier>
</Style>
<Format>image/jpgpng</Format>
<TileMatrixSetLink>
<TileMatrixSet>default028mm</TileMatrixSet>
</TileMatrixSetLink>
<ResourceURL format="image/jpgpng" resourceType="tile" template="https://gis.johnsoncountyiowa.gov/arcgis/rest/services/Basemaps/2026_Aerials_Partial/MapServer/WMTS/tile/1.0.0/Basemaps_2026_Aerials_Partial/{Style}/{TileMatrixSet}/{TileMatrix}/{TileRow}/{TileCol}" />
</Layer> <!--TileMatrixSet-->
<TileMatrixSet>
<ows:Title>TileMatrix using 0.28mm</ows:Title>
<ows:Abstract>The tile matrix set that has scale values calculated based on the dpi defined by OGC specification (dpi assumes 0.28mm as the physical distance of a pixel).</ows:Abstract> <ows:Identifier>default028mm</ows:Identifier>
<ows:SupportedCRS>urn:ogc:def:crs:EPSG::6465</ows:SupportedCRS>
<TileMatrix>
<ows:Identifier>0</ows:Identifier>
<ScaleDenominator>425224.0647337903</ScaleDenominator>
<TopLeftCorner>-1.192405E8 1.4525429999999997E8</TopLeftCorner> <TileWidth>256</TileWidth> <TileHeight>256</TileHeight>
<MatrixWidth>1215</MatrixWidth> <MatrixHeight>1447</MatrixHeight>
</TileMatrix>
<TileMatrix>
<ows:Identifier>1</ows:Identifier>
<ScaleDenominator>212612.03236689515</ScaleDenominator>
<TopLeftCorner>-1.192405E8 1.4525429999999997E8</TopLeftCorner> <TileWidth>256</TileWidth> <TileHeight>256</TileHeight>
<MatrixWidth>2430</MatrixWidth> <MatrixHeight>2894</MatrixHeight>
</TileMatrix>
<TileMatrix>
<ows:Identifier>2</ows:Identifier>
<ScaleDenominator>106306.01618344757</ScaleDenominator>
<TopLeftCorner>-1.192405E8 1.4525429999999997E8</TopLeftCorner> <TileWidth>256</TileWidth> <TileHeight>256</TileHeight>
<MatrixWidth>4859</MatrixWidth> <MatrixHeight>5788</MatrixHeight>
</TileMatrix>
<TileMatrix>
<ows:Identifier>3</ows:Identifier>
<ScaleDenominator>53153.00809172379</ScaleDenominator>
<TopLeftCorner>-1.192405E8 1.4525429999999997E8</TopLeftCorner> <TileWidth>256</TileWidth> <TileHeight>256</TileHeight>
<MatrixWidth>9717</MatrixWidth> <MatrixHeight>11575</MatrixHeight>
</TileMatrix>
<TileMatrix>
<ows:Identifier>4</ows:Identifier>
<ScaleDenominator>26576.504045861893</ScaleDenominator>
<TopLeftCorner>-1.192405E8 1.4525429999999997E8</TopLeftCorner> <TileWidth>256</TileWidth> <TileHeight>256</TileHeight>
<MatrixWidth>19433</MatrixWidth> <MatrixHeight>23149</MatrixHeight>
</TileMatrix>
<TileMatrix>
<ows:Identifier>5</ows:Identifier>
<ScaleDenominator>13287.779551747908</ScaleDenominator>
<TopLeftCorner>-1.192405E8 1.4525429999999997E8</TopLeftCorner> <TileWidth>256</TileWidth> <TileHeight>256</TileHeight>
<MatrixWidth>38867</MatrixWidth> <MatrixHeight>46300</MatrixHeight>
</TileMatrix>
<TileMatrix>
<ows:Identifier>6</ows:Identifier>
<ScaleDenominator>6644.834718240029</ScaleDenominator>
<TopLeftCorner>-1.192405E8 1.4525429999999997E8</TopLeftCorner> <TileWidth>256</TileWidth> <TileHeight>256</TileHeight>
<MatrixWidth>77723</MatrixWidth> <MatrixHeight>92586</MatrixHeight>
</TileMatrix>
<TileMatrix>
<ows:Identifier>7</ows:Identifier>
<ScaleDenominator>3322.4173591200147</ScaleDenominator>
<TopLeftCorner>-1.192405E8 1.4525429999999997E8</TopLeftCorner> <TileWidth>256</TileWidth> <TileHeight>256</TileHeight>
<MatrixWidth>155446</MatrixWidth> <MatrixHeight>185172</MatrixHeight>
</TileMatrix>
<TileMatrix>
<ows:Identifier>8</ows:Identifier>
<ScaleDenominator>1661.2086795600073</ScaleDenominator>
<TopLeftCorner>-1.192405E8 1.4525429999999997E8</TopLeftCorner> <TileWidth>256</TileWidth> <TileHeight>256</TileHeight>
<MatrixWidth>310892</MatrixWidth> <MatrixHeight>370344</MatrixHeight>
</TileMatrix>
<TileMatrix>
<ows:Identifier>9</ows:Identifier>
<ScaleDenominator>831.5492821460788</ScaleDenominator>
<TopLeftCorner>-1.192405E8 1.4525429999999997E8</TopLeftCorner> <TileWidth>256</TileWidth> <TileHeight>256</TileHeight>
<MatrixWidth>621077</MatrixWidth> <MatrixHeight>739845</MatrixHeight>
</TileMatrix>
<TileMatrix>
<ows:Identifier>10</ows:Identifier>
<ScaleDenominator>415.7746410730394</ScaleDenominator>
<TopLeftCorner>-1.192405E8 1.4525429999999997E8</TopLeftCorner> <TileWidth>256</TileWidth> <TileHeight>256</TileHeight>
<MatrixWidth>1242153</MatrixWidth> <MatrixHeight>1479690</MatrixHeight>
</TileMatrix>
<TileMatrix>
<ows:Identifier>11</ows:Identifier>
<ScaleDenominator>207.8873205365197</ScaleDenominator>
<TopLeftCorner>-1.192405E8 1.4525429999999997E8</TopLeftCorner> <TileWidth>256</TileWidth> <TileHeight>256</TileHeight>
<MatrixWidth>2484305</MatrixWidth> <MatrixHeight>2959380</MatrixHeight>
</TileMatrix>
</TileMatrixSet>
</Contents>
<ServiceMetadataURL xlink:href="https://gis.johnsoncountyiowa.gov/arcgis/rest/services/Basemaps/2026_Aerials_Partial/MapServer/WMTS/1.0.0/WMTSCapabilities.xml" /> </Capabilities>
