<?xml version="1.0" encoding="UTF-8"?>
<Capabilities xmlns="http://www.opengis.net/wmts/1.0"
xmlns:ows="http://www.opengis.net/ows/1.1"
xmlns:xlink="http://www.w3.org/1999/xlink"
xmlns:xsi="http://www.w3.org/2001/XMLSchema-instance"
xmlns:gml="http://www.opengis.net/gml"
xsi:schemaLocation="http://www.opengis.net/wmts/1.0 http://schemas.opengis.net/wmts/1.0/wmtsGetCapabilities_response.xsd"
version="1.0.0">
<!-- Service Identification --> <ows:ServiceIdentification>
<ows:Title>Basemaps_Map_View_old</ows:Title>
<ows:ServiceType>OGC WMTS</ows:ServiceType>
<ows:ServiceTypeVersion>1.0.0</ows:ServiceTypeVersion>
</ows:ServiceIdentification> <!-- Operations Metadata --> <ows:OperationsMetadata>
<ows:Operation name="GetCapabilities">
<ows:DCP>
<ows:HTTP>
<ows:Get xlink:href="https://gis.johnsoncountyiowa.gov/arcgis/rest/services/Basemaps/Map_View_old/MapServer/WMTS/1.0.0/WMTSCapabilities.xml">
<ows:Constraint name="GetEncoding">
<ows:AllowedValues>
<ows:Value>RESTful</ows:Value>
</ows:AllowedValues>
</ows:Constraint>
</ows:Get>
<!-- add KVP binding in 10.1 -->
<ows:Get xlink:href="https://gis.johnsoncountyiowa.gov/arcgis/rest/services/Basemaps/Map_View_old/MapServer/WMTS?">
<ows:Constraint name="GetEncoding">
<ows:AllowedValues>
<ows:Value>KVP</ows:Value>
</ows:AllowedValues>
</ows:Constraint>
</ows:Get>
</ows:HTTP>
</ows:DCP>
</ows:Operation>
<ows:Operation name="GetTile">
<ows:DCP>
<ows:HTTP>
<ows:Get xlink:href="https://gis.johnsoncountyiowa.gov/arcgis/rest/services/Basemaps/Map_View_old/MapServer/WMTS/tile/1.0.0/">
<ows:Constraint name="GetEncoding">
<ows:AllowedValues>
<ows:Value>RESTful</ows:Value>
</ows:AllowedValues>
</ows:Constraint>
</ows:Get>
<ows:Get xlink:href="https://gis.johnsoncountyiowa.gov/arcgis/rest/services/Basemaps/Map_View_old/MapServer/WMTS?">
<ows:Constraint name="GetEncoding">
<ows:AllowedValues>
<ows:Value>KVP</ows:Value>
</ows:AllowedValues>
</ows:Constraint>
</ows:Get>
</ows:HTTP>
</ows:DCP>
</ows:Operation>
</ows:OperationsMetadata> <Contents>
<!--Layer--> <Layer>
<ows:Title>Basemaps_Map_View_old</ows:Title> <ows:Identifier>Basemaps_Map_View_old</ows:Identifier>
<ows:BoundingBox crs="urn:ogc:def:crs:EPSG::6465">
<ows:LowerCorner>2092612.7243653089 524315.2290000021</ows:LowerCorner>
<ows:UpperCorner>2227063.2245000005 685258.563500002</ows:UpperCorner>
</ows:BoundingBox> <ows:WGS84BoundingBox crs="urn:ogc:def:crs:OGC:2:84">
<ows:LowerCorner>-91.85094755333164 41.41930994290576</ows:LowerCorner>
<ows:UpperCorner>-91.34628286718846 41.86895126688465</ows:UpperCorner>
</ows:WGS84BoundingBox>
<Style isDefault="true">
<ows:Title>Default Style</ows:Title>
<ows:Identifier>default</ows:Identifier>
</Style>
<Format>image/jpgpng</Format>
<TileMatrixSetLink>
<TileMatrixSet>default028mm</TileMatrixSet>
</TileMatrixSetLink>
<ResourceURL format="image/jpgpng" resourceType="tile" template="https://gis.johnsoncountyiowa.gov/arcgis/rest/services/Basemaps/Map_View_old/MapServer/WMTS/tile/1.0.0/Basemaps_Map_View_old/{Style}/{TileMatrixSet}/{TileMatrix}/{TileRow}/{TileCol}" />
</Layer> <!--TileMatrixSet-->
<TileMatrixSet>
<ows:Title>TileMatrix using 0.28mm</ows:Title>
<ows:Abstract>The tile matrix set that has scale values calculated based on the dpi defined by OGC specification (dpi assumes 0.28mm as the physical distance of a pixel).</ows:Abstract> <ows:Identifier>default028mm</ows:Identifier>
<ows:SupportedCRS>urn:ogc:def:crs:EPSG::6465</ows:SupportedCRS>
<TileMatrix>
<ows:Identifier>0</ows:Identifier>
<ScaleDenominator>425224.0647337903</ScaleDenominator>
<TopLeftCorner>-1.192405E8 1.4525429999999997E8</TopLeftCorner> <TileWidth>256</TileWidth> <TileHeight>256</TileHeight>
<MatrixWidth>1215</MatrixWidth> <MatrixHeight>1448</MatrixHeight>
</TileMatrix>
<TileMatrix>
<ows:Identifier>1</ows:Identifier>
<ScaleDenominator>212612.03236689515</ScaleDenominator>
<TopLeftCorner>-1.192405E8 1.4525429999999997E8</TopLeftCorner> <TileWidth>256</TileWidth> <TileHeight>256</TileHeight>
<MatrixWidth>2430</MatrixWidth> <MatrixHeight>2895</MatrixHeight>
</TileMatrix>
<TileMatrix>
<ows:Identifier>2</ows:Identifier>
<ScaleDenominator>106306.01618344757</ScaleDenominator>
<TopLeftCorner>-1.192405E8 1.4525429999999997E8</TopLeftCorner> <TileWidth>256</TileWidth> <TileHeight>256</TileHeight>
<MatrixWidth>4859</MatrixWidth> <MatrixHeight>5790</MatrixHeight>
</TileMatrix>
<TileMatrix>
<ows:Identifier>3</ows:Identifier>
<ScaleDenominator>53153.00809172379</ScaleDenominator>
<TopLeftCorner>-1.192405E8 1.4525429999999997E8</TopLeftCorner> <TileWidth>256</TileWidth> <TileHeight>256</TileHeight>
<MatrixWidth>9718</MatrixWidth> <MatrixHeight>11579</MatrixHeight>
</TileMatrix>
<TileMatrix>
<ows:Identifier>4</ows:Identifier>
<ScaleDenominator>26576.504045861893</ScaleDenominator>
<TopLeftCorner>-1.192405E8 1.4525429999999997E8</TopLeftCorner> <TileWidth>256</TileWidth> <TileHeight>256</TileHeight>
<MatrixWidth>19435</MatrixWidth> <MatrixHeight>23157</MatrixHeight>
</TileMatrix>
<TileMatrix>
<ows:Identifier>5</ows:Identifier>
<ScaleDenominator>13287.779551747908</ScaleDenominator>
<TopLeftCorner>-1.192405E8 1.4525429999999997E8</TopLeftCorner> <TileWidth>256</TileWidth> <TileHeight>256</TileHeight>
<MatrixWidth>38872</MatrixWidth> <MatrixHeight>46316</MatrixHeight>
</TileMatrix>
<TileMatrix>
<ows:Identifier>6</ows:Identifier>
<ScaleDenominator>6644.834718240029</ScaleDenominator>
<TopLeftCorner>-1.192405E8 1.4525429999999997E8</TopLeftCorner> <TileWidth>256</TileWidth> <TileHeight>256</TileHeight>
<MatrixWidth>77731</MatrixWidth> <MatrixHeight>92618</MatrixHeight>
</TileMatrix>
<TileMatrix>
<ows:Identifier>7</ows:Identifier>
<ScaleDenominator>3322.4173591200147</ScaleDenominator>
<TopLeftCorner>-1.192405E8 1.4525429999999997E8</TopLeftCorner> <TileWidth>256</TileWidth> <TileHeight>256</TileHeight>
<MatrixWidth>155462</MatrixWidth> <MatrixHeight>185235</MatrixHeight>
</TileMatrix>
<TileMatrix>
<ows:Identifier>8</ows:Identifier>
<ScaleDenominator>1661.2086795600073</ScaleDenominator>
<TopLeftCorner>-1.192405E8 1.4525429999999997E8</TopLeftCorner> <TileWidth>256</TileWidth> <TileHeight>256</TileHeight>
<MatrixWidth>310924</MatrixWidth> <MatrixHeight>370470</MatrixHeight>
</TileMatrix>
<TileMatrix>
<ows:Identifier>9</ows:Identifier>
<ScaleDenominator>831.5492821460788</ScaleDenominator>
<TopLeftCorner>-1.192405E8 1.4525429999999997E8</TopLeftCorner> <TileWidth>256</TileWidth> <TileHeight>256</TileHeight>
<MatrixWidth>621141</MatrixWidth> <MatrixHeight>740097</MatrixHeight>
</TileMatrix>
<TileMatrix>
<ows:Identifier>10</ows:Identifier>
<ScaleDenominator>415.7746410730394</ScaleDenominator>
<TopLeftCorner>-1.192405E8 1.4525429999999997E8</TopLeftCorner> <TileWidth>256</TileWidth> <TileHeight>256</TileHeight>
<MatrixWidth>1242282</MatrixWidth> <MatrixHeight>1480194</MatrixHeight>
</TileMatrix>
<TileMatrix>
<ows:Identifier>11</ows:Identifier>
<ScaleDenominator>207.8873205365197</ScaleDenominator>
<TopLeftCorner>-1.192405E8 1.4525429999999997E8</TopLeftCorner> <TileWidth>256</TileWidth> <TileHeight>256</TileHeight>
<MatrixWidth>2484564</MatrixWidth> <MatrixHeight>2960387</MatrixHeight>
</TileMatrix>
</TileMatrixSet>
</Contents>
<ServiceMetadataURL xlink:href="https://gis.johnsoncountyiowa.gov/arcgis/rest/services/Basemaps/Map_View_old/MapServer/WMTS/1.0.0/WMTSCapabilities.xml" /> </Capabilities>
